BEGIN:VCALENDAR
VERSION:2.0
PRODID:-//hacksw/handcal//NONSGML v1.0//EN
CALSCALE:GREGORIAN
BEGIN:VEVENT
ORGANIZER;CN=Green Thumb Industries:MAILTO:no-reply@gcs-web.com
DTEND:
UID:91f047a2-181c-42b3-a955-9bc3d85c855e
DTSTAMP:1777043777
LOCATION:https://edge.media-server.com/mmc/p/j2jak29q
DESCRIPTION:Event Details https://investors.gtigrows.com/events/event-details/green-thumb-industries-q126-earnings-call\n\nWebcast: https://edge.media-server.com/mmc/p/j2jak29q
URL;VALUE=URI:https://edge.media-server.com/mmc/p/j2jak29q
SUMMARY:Green Thumb Industries - Green Thumb Industries Q126 Earnings Call
DTSTART:20260506T210000Z
END:VEVENT
END:VCALENDAR